BEGIN:VCALENDAR
VERSION:2.0
PRODID:-//360 GMS - ECPv6.15.18//NONSGML v1.0//EN
CALSCALE:GREGORIAN
METHOD:PUBLISH
X-ORIGINAL-URL:https://www.360gms.cl
X-WR-CALDESC:Eventos para 360 GMS
REFRESH-INTERVAL;VALUE=DURATION:PT1H
X-Robots-Tag:noindex
X-PUBLISHED-TTL:PT1H
BEGIN:VTIMEZONE
TZID:America/Santiago
BEGIN:STANDARD
TZOFFSETFROM:-0300
TZOFFSETTO:-0400
TZNAME:-04
DTSTART:20300407T030000
END:STANDARD
BEGIN:DAYLIGHT
TZOFFSETFROM:-0400
TZOFFSETTO:-0300
TZNAME:-03
DTSTART:20300908T040000
END:DAYLIGHT
BEGIN:STANDARD
TZOFFSETFROM:-0300
TZOFFSETTO:-0400
TZNAME:-04
DTSTART:20310406T030000
END:STANDARD
BEGIN:DAYLIGHT
TZOFFSETFROM:-0400
TZOFFSETTO:-0300
TZNAME:-03
DTSTART:20310907T040000
END:DAYLIGHT
BEGIN:STANDARD
TZOFFSETFROM:-0300
TZOFFSETTO:-0400
TZNAME:-04
DTSTART:20320404T030000
END:STANDARD
BEGIN:DAYLIGHT
TZOFFSETFROM:-0400
TZOFFSETTO:-0300
TZNAME:-03
DTSTART:20320905T040000
END:DAYLIGHT
END:VTIMEZONE
BEGIN:VEVENT
DTSTART;TZID=America/Santiago:20311111T000000
DTEND;TZID=America/Santiago:20311112T235959
DTSTAMP:20260420T000312
CREATED:20260204T162130Z
LAST-MODIFIED:20260204T162213Z
UID:1365-1952121600-1952294399@www.360gms.cl
SUMMARY:Curso Oficial BRCGS: Cultura de Inocuidad del Producto
DESCRIPTION:
URL:https://www.360gms.cl/curso/curso-oficial-brcgs-cultura-de-inocuidad-del-producto-2/
CATEGORIES:Cerrados,Protocolos Global Food Safety Initiative (GFSI)
END:VEVENT
END:VCALENDAR