BEGIN:VCALENDAR
VERSION:2.0
PRODID:-//360 GMS - ECPv6.15.18//NONSGML v1.0//EN
CALSCALE:GREGORIAN
METHOD:PUBLISH
X-ORIGINAL-URL:https://www.360gms.cl
X-WR-CALDESC:Eventos para 360 GMS
REFRESH-INTERVAL;VALUE=DURATION:PT1H
X-Robots-Tag:noindex
X-PUBLISHED-TTL:PT1H
BEGIN:VTIMEZONE
TZID:America/Santiago
BEGIN:STANDARD
TZOFFSETFROM:-0300
TZOFFSETTO:-0400
TZNAME:-04
DTSTART:20240407T030000
END:STANDARD
BEGIN:DAYLIGHT
TZOFFSETFROM:-0400
TZOFFSETTO:-0300
TZNAME:-03
DTSTART:20240908T040000
END:DAYLIGHT
BEGIN:STANDARD
TZOFFSETFROM:-0300
TZOFFSETTO:-0400
TZNAME:-04
DTSTART:20250406T030000
END:STANDARD
BEGIN:DAYLIGHT
TZOFFSETFROM:-0400
TZOFFSETTO:-0300
TZNAME:-03
DTSTART:20250907T040000
END:DAYLIGHT
BEGIN:STANDARD
TZOFFSETFROM:-0300
TZOFFSETTO:-0400
TZNAME:-04
DTSTART:20260405T030000
END:STANDARD
BEGIN:DAYLIGHT
TZOFFSETFROM:-0400
TZOFFSETTO:-0300
TZNAME:-03
DTSTART:20260906T040000
END:DAYLIGHT
END:VTIMEZONE
BEGIN:VEVENT
DTSTART;TZID=America/Santiago:20251103T000000
DTEND;TZID=America/Santiago:20251104T235959
DTSTAMP:20260421T093912
CREATED:20250904T032124Z
LAST-MODIFIED:20251016T122528Z
UID:266-1762128000-1762300799@www.360gms.cl
SUMMARY:Curso Oficial BRCGS: Cultura de Inocuidad del Producto
DESCRIPTION:
URL:https://www.360gms.cl/curso/curso-oficial-brcgs-cultura-de-inocuidad-del-producto/
CATEGORIES:Cerrados,Protocolos Global Food Safety Initiative (GFSI)
END:VEVENT
BEGIN:VEVENT
DTSTART;TZID=America/Santiago:20251103T000000
DTEND;TZID=America/Santiago:20251104T235959
DTSTAMP:20260421T093912
CREATED:20250904T032440Z
LAST-MODIFIED:20251016T120852Z
UID:270-1762128000-1762300799@www.360gms.cl
SUMMARY:Curso Oficial BRCGS: Cultura de Seguridad del Producto
DESCRIPTION:
URL:https://www.360gms.cl/curso/curso-oficial-brcgs-evaluacion-de-riesgos-hara-analisis-de-peligros-y-evaluacion-de-riesgos/
CATEGORIES:Protocolos Global Food Safety Initiative (GFSI)
END:VEVENT
END:VCALENDAR