BEGIN:VCALENDAR
VERSION:2.0
PRODID:-//360 GMS - ECPv6.15.18//NONSGML v1.0//EN
CALSCALE:GREGORIAN
METHOD:PUBLISH
X-WR-CALNAME:360 GMS
X-ORIGINAL-URL:https://www.360gms.cl
X-WR-CALDESC:Eventos para 360 GMS
REFRESH-INTERVAL;VALUE=DURATION:PT1H
X-Robots-Tag:noindex
X-PUBLISHED-TTL:PT1H
BEGIN:VTIMEZONE
TZID:America/Santiago
BEGIN:STANDARD
TZOFFSETFROM:-0300
TZOFFSETTO:-0400
TZNAME:-04
DTSTART:20340402T030000
END:STANDARD
BEGIN:DAYLIGHT
TZOFFSETFROM:-0400
TZOFFSETTO:-0300
TZNAME:-03
DTSTART:20340903T040000
END:DAYLIGHT
BEGIN:STANDARD
TZOFFSETFROM:-0300
TZOFFSETTO:-0400
TZNAME:-04
DTSTART:20350408T030000
END:STANDARD
BEGIN:DAYLIGHT
TZOFFSETFROM:-0400
TZOFFSETTO:-0300
TZNAME:-03
DTSTART:20350902T040000
END:DAYLIGHT
BEGIN:STANDARD
TZOFFSETFROM:-0300
TZOFFSETTO:-0400
TZNAME:-04
DTSTART:20360406T030000
END:STANDARD
BEGIN:DAYLIGHT
TZOFFSETFROM:-0400
TZOFFSETTO:-0300
TZNAME:-03
DTSTART:20360907T040000
END:DAYLIGHT
END:VTIMEZONE
BEGIN:VEVENT
DTSTART;TZID=America/Santiago:20350312T000000
DTEND;TZID=America/Santiago:20350315T235959
DTSTAMP:20260420T030017
CREATED:20260128T145518Z
LAST-MODIFIED:20260128T145518Z
UID:1266-2057270400-2057615999@www.360gms.cl
SUMMARY:Curso Oficial FSMA: Controles Preventivos para Alimentos de Consumo Humano Versión 2.0
DESCRIPTION:
URL:https://www.360gms.cl/curso/curso-oficial-fsma-controles-preventivos-para-alimentos-de-consumo-humano-version-2-0-4/
CATEGORIES:Cerrados,Inocuidad, Buenas Prácticas y HACCP
END:VEVENT
END:VCALENDAR