BEGIN:VCALENDAR
VERSION:2.0
PRODID:-//360 GMS - ECPv6.15.18//NONSGML v1.0//EN
CALSCALE:GREGORIAN
METHOD:PUBLISH
X-WR-CALNAME:360 GMS
X-ORIGINAL-URL:https://www.360gms.cl
X-WR-CALDESC:Eventos para 360 GMS
REFRESH-INTERVAL;VALUE=DURATION:PT1H
X-Robots-Tag:noindex
X-PUBLISHED-TTL:PT1H
BEGIN:VTIMEZONE
TZID:America/Santiago
BEGIN:STANDARD
TZOFFSETFROM:-0300
TZOFFSETTO:-0400
TZNAME:-04
DTSTART:20300407T030000
END:STANDARD
BEGIN:DAYLIGHT
TZOFFSETFROM:-0400
TZOFFSETTO:-0300
TZNAME:-03
DTSTART:20300908T040000
END:DAYLIGHT
BEGIN:STANDARD
TZOFFSETFROM:-0300
TZOFFSETTO:-0400
TZNAME:-04
DTSTART:20310406T030000
END:STANDARD
BEGIN:DAYLIGHT
TZOFFSETFROM:-0400
TZOFFSETTO:-0300
TZNAME:-03
DTSTART:20310907T040000
END:DAYLIGHT
BEGIN:STANDARD
TZOFFSETFROM:-0300
TZOFFSETTO:-0400
TZNAME:-04
DTSTART:20320404T030000
END:STANDARD
BEGIN:DAYLIGHT
TZOFFSETFROM:-0400
TZOFFSETTO:-0300
TZNAME:-03
DTSTART:20320905T040000
END:DAYLIGHT
END:VTIMEZONE
BEGIN:VEVENT
DTSTART;TZID=America/Santiago:20310318T000000
DTEND;TZID=America/Santiago:20310321T235959
DTSTAMP:20260419T171653
CREATED:20260204T154155Z
LAST-MODIFIED:20260204T154155Z
UID:1341-1931558400-1931903999@www.360gms.cl
SUMMARY:Desarrollo y Aplicación HACCP según NT174\, Codex 2023 y Lineamientos GFSI
DESCRIPTION:
URL:https://www.360gms.cl/curso/desarrollo-y-aplicacion-haccp-segun-nt174-codex-2023-y-lineamientos-gfsi-6/
CATEGORIES:Cerrados,Inocuidad, Buenas Prácticas y HACCP
END:VEVENT
END:VCALENDAR