BEGIN:VCALENDAR
VERSION:2.0
PRODID:-//360 GMS - ECPv6.15.18//NONSGML v1.0//EN
CALSCALE:GREGORIAN
METHOD:PUBLISH
X-WR-CALNAME:360 GMS
X-ORIGINAL-URL:https://www.360gms.cl
X-WR-CALDESC:Eventos para 360 GMS
REFRESH-INTERVAL;VALUE=DURATION:PT1H
X-Robots-Tag:noindex
X-PUBLISHED-TTL:PT1H
BEGIN:VTIMEZONE
TZID:America/Santiago
BEGIN:STANDARD
TZOFFSETFROM:-0300
TZOFFSETTO:-0400
TZNAME:-04
DTSTART:20290408T030000
END:STANDARD
BEGIN:DAYLIGHT
TZOFFSETFROM:-0400
TZOFFSETTO:-0300
TZNAME:-03
DTSTART:20290902T040000
END:DAYLIGHT
BEGIN:STANDARD
TZOFFSETFROM:-0300
TZOFFSETTO:-0400
TZNAME:-04
DTSTART:20300407T030000
END:STANDARD
BEGIN:DAYLIGHT
TZOFFSETFROM:-0400
TZOFFSETTO:-0300
TZNAME:-03
DTSTART:20300908T040000
END:DAYLIGHT
BEGIN:STANDARD
TZOFFSETFROM:-0300
TZOFFSETTO:-0400
TZNAME:-04
DTSTART:20310406T030000
END:STANDARD
BEGIN:DAYLIGHT
TZOFFSETFROM:-0400
TZOFFSETTO:-0300
TZNAME:-03
DTSTART:20310907T040000
END:DAYLIGHT
END:VTIMEZONE
BEGIN:VEVENT
DTSTART;TZID=America/Santiago:20300908T000000
DTEND;TZID=America/Santiago:20300908T235959
DTSTAMP:20260419T100021
CREATED:20250909T011317Z
LAST-MODIFIED:20260128T191513Z
UID:282-1915056000-1915142399@www.360gms.cl
SUMMARY:Procesamiento Térmico de Alta Temperatura en Alimentos
DESCRIPTION:
URL:https://www.360gms.cl/curso/curso-procesamiento-termico-de-alta-temperatura-en-alimentos/
CATEGORIES:Cerrados,Inocuidad, Buenas Prácticas y HACCP
END:VEVENT
BEGIN:VEVENT
DTSTART;TZID=America/Santiago:20300908T000000
DTEND;TZID=America/Santiago:20300908T235959
DTSTAMP:20260419T100021
CREATED:20250909T020000Z
LAST-MODIFIED:20251016T154812Z
UID:357-1915056000-1915142399@www.360gms.cl
SUMMARY:Principios de Inocuidad\, Buenas Prácticas de Manufacturas y HACCP en la Industria Alimentaria
DESCRIPTION:
URL:https://www.360gms.cl/curso/principios-de-inocuidad-buenas-practicas-de-manufacturas-y-haccp-en-la-industria-alimentaria/
CATEGORIES:Cerrados,Inocuidad, Buenas Prácticas y HACCP
END:VEVENT
BEGIN:VEVENT
DTSTART;TZID=America/Santiago:20300908T000000
DTEND;TZID=America/Santiago:20300908T235959
DTSTAMP:20260419T100021
CREATED:20250909T020442Z
LAST-MODIFIED:20251016T004010Z
UID:365-1915056000-1915142399@www.360gms.cl
SUMMARY:Sistema HACCP basado en Codex Alimentarius para PAC Sernapesca
DESCRIPTION:
URL:https://www.360gms.cl/curso/sistema-haccp-basado-en-codex-alimentarius-para-pac-sernapesca/
CATEGORIES:Cerrados,Inocuidad, Buenas Prácticas y HACCP
END:VEVENT
END:VCALENDAR