BEGIN:VCALENDAR
VERSION:2.0
PRODID:-//360 GMS - ECPv6.15.18//NONSGML v1.0//EN
CALSCALE:GREGORIAN
METHOD:PUBLISH
X-ORIGINAL-URL:https://www.360gms.cl
X-WR-CALDESC:Eventos para 360 GMS
REFRESH-INTERVAL;VALUE=DURATION:PT1H
X-Robots-Tag:noindex
X-PUBLISHED-TTL:PT1H
BEGIN:VTIMEZONE
TZID:America/Santiago
BEGIN:STANDARD
TZOFFSETFROM:-0300
TZOFFSETTO:-0400
TZNAME:-04
DTSTART:20290408T030000
END:STANDARD
BEGIN:DAYLIGHT
TZOFFSETFROM:-0400
TZOFFSETTO:-0300
TZNAME:-03
DTSTART:20290902T040000
END:DAYLIGHT
BEGIN:STANDARD
TZOFFSETFROM:-0300
TZOFFSETTO:-0400
TZNAME:-04
DTSTART:20300407T030000
END:STANDARD
BEGIN:DAYLIGHT
TZOFFSETFROM:-0400
TZOFFSETTO:-0300
TZNAME:-03
DTSTART:20300908T040000
END:DAYLIGHT
BEGIN:STANDARD
TZOFFSETFROM:-0300
TZOFFSETTO:-0400
TZNAME:-04
DTSTART:20310406T030000
END:STANDARD
BEGIN:DAYLIGHT
TZOFFSETFROM:-0400
TZOFFSETTO:-0300
TZNAME:-03
DTSTART:20310907T040000
END:DAYLIGHT
END:VTIMEZONE
BEGIN:VEVENT
DTSTART;TZID=America/Santiago:20300901T000000
DTEND;TZID=America/Santiago:20300901T235959
DTSTAMP:20260419T095337
CREATED:20250904T031208Z
LAST-MODIFIED:20251016T010518Z
UID:256-1914451200-1914537599@www.360gms.cl
SUMMARY:Aplicando las Buenas Prácticas de Manufactura y el Sistema HACCP en la Industria de Alimentos
DESCRIPTION:
URL:https://www.360gms.cl/curso/aplicando-las-buenas-practicas-de-manufactura-y-el-sistema-haccp-en-la-industria-de-alimentos/
CATEGORIES:Cerrados,Inocuidad, Buenas Prácticas y HACCP
END:VEVENT
BEGIN:VEVENT
DTSTART;TZID=America/Santiago:20300901T000000
DTEND;TZID=America/Santiago:20300901T235959
DTSTAMP:20260419T095337
CREATED:20250904T031428Z
LAST-MODIFIED:20260128T185705Z
UID:258-1914451200-1914537599@www.360gms.cl
SUMMARY:BPM: Buenas Prácticas de Manufactura en la Industria Alimentaria
DESCRIPTION:
URL:https://www.360gms.cl/curso/bpm-buenas-practicas-de-manufactura-en-la-industria-alimentaria/
CATEGORIES:Cerrados,Inocuidad, Buenas Prácticas y HACCP
END:VEVENT
END:VCALENDAR